BEGIN:VCALENDAR
VERSION:2.0
PRODID:-//Tukios.com/
BEGIN:VEVENT
UID:8764fc00-1f84-433a-bddb-bd8c5827594d@www.sandersonfuneralservice.com
DTSTAMP:20260422T171200Z
DTSTART:20260423T150000Z
DTEND:20260423T160000Z
SUMMARY:Funeral Service
DESCRIPTION:
URL:https://www.sandersonfuneralservice.com/obituaries/juan-blanco-rascon
LOCATION:St. Peter’s Catholic Church 6 1st Street  Vergennes VT 05491
GEO:44.163133;-73.2662934
END:VEVENT
END:VCALENDAR